BEGIN:VCALENDAR
VERSION:2.0
PRODID:-//eventon.com NONSGML v1.0//EN
CALSCALE:GREGORIAN
METHOD:PUBLISH
BEGIN:VEVENT
UID:69ebc6271010a
DTSTAMP:20260424T193607Z
DTSTART:20230503T143000Z
DTEND:20230503T150000Z
LOCATION:Sergel Hub Sveavägen 10a
SUMMARY:Föreläsning Stockholm - Kan jag som företagare få a-kassa?
DESCRIPTION:I samband med Starta &amp; Driva Företag-dagen den 3/5 välkom
 nar vi dig till den kostnadsfria föreläsningen. Kan jag som företagare f
 å a-kassa? Självklart kan du det. Vi reder ut vanliga frågor om varför 
 även en företagare ska vara medlem i en a-kassa och ger konkreta exempel 
 på vad som gäller.[..]\nhttps://startaochdriva.se/events/forelasning-stoc
 kholm-kan-jag-som-foretagare-fa-a-kassa/
URL:https://startaochdriva.se/events/forelasning-stockholm-kan-jag-som-foretagare-fa-a-kassa/
END:VEVENT
END:VCALENDAR