BEGIN:VCALENDAR
VERSION:2.0
PRODID:-//eventon.com NONSGML v1.0//EN
CALSCALE:GREGORIAN
METHOD:PUBLISH
BEGIN:VEVENT
UID:69ebc5e345940
DTSTAMP:20260424T193459Z
DTSTART:20230503T140000Z
DTEND:20230503T143000Z
LOCATION:Sergel Hub Sveavägen 10a
SUMMARY:Föreläsning Stockholm - Så lyckas du med frakten
DESCRIPTION:I samband med Starta &amp; Driva Företag-dagen den 3/5 välkom
 nar vi dig till den kostnadsfria föreläsningen. Att skicka paket utanför
  Sveriges gränser behöver inte vara komplicerat. Vi ger användbara tips 
 för hur man enkelt når nya marknader både inom och utanför EU. Med hjä
 lp av bl.a. feedback från kunder i[..]\nhttps://startaochdriva.se/events/f
 orelasning-stockholm-sa-lyckas-du-med-frakten/
URL:https://startaochdriva.se/events/forelasning-stockholm-sa-lyckas-du-med-frakten/
END:VEVENT
END:VCALENDAR