BEGIN:VCALENDAR
VERSION:2.0
PRODID:-//eventon.com NONSGML v1.0//EN
CALSCALE:GREGORIAN
METHOD:PUBLISH
BEGIN:VEVENT
UID:69e58a07c4feb
DTSTAMP:20260420T020559Z
DTSTART:20230503T123000Z
DTEND:20230503T130000Z
LOCATION:Sergel Hub Sveavägen 10a
SUMMARY:Föreläsning Stockholm - Jag leder - strategier för självledarskap
DESCRIPTION:I samband med Starta &amp; Driva Företag-dagen den 3/5 välkom
 nar vi dig till den kostnadsfria föreläsningen med Jessica Jäger. Utan d
 ina mänskliga handlingar är ditt företag bara en pappershandling. Så hu
 r du mår\,  både fysiskt och mentalt\,  och vad du säger till dig själv
  och väljer att tro på om[..]\nhttps://startaochdriva.se/events/forelasni
 ng-stockholm-jag-leder-strategier-for-sjalvledarskap/
URL:https://startaochdriva.se/events/forelasning-stockholm-jag-leder-strategier-for-sjalvledarskap/
END:VEVENT
END:VCALENDAR