BEGIN:VCALENDAR
VERSION:2.0
PRODID:-//eventon.com NONSGML v1.0//EN
CALSCALE:GREGORIAN
METHOD:PUBLISH
BEGIN:VEVENT
UID:69ebc5949e891
DTSTAMP:20260424T193340Z
DTSTART:20230503T133000Z
DTEND:20230503T143000Z
LOCATION:Sergel Hub Sveavägen 10a
SUMMARY:Workshop ChatGPT: Vill du skriva bättre texter och spara tid?
DESCRIPTION:I samband med Starta &amp; Driva Företag-dagen den 3/5 välkom
 nar vi dig till en kostnadsfri workshop med Andreas Holmbäck. Denna worksh
 op ger dig en både praktisk och teoretisk introduktion till hur du kan anv
 ända ChatGPT för att förbättra din skrivförmåga. Du kommer genom prak
 tiska övningar och uppgifter lära dig hur[..]\nhttps://startaochdriva.se/
 events/workshop-vill-du-skriva-battre-texter-och-spara-tid/
URL:https://startaochdriva.se/events/workshop-vill-du-skriva-battre-texter-och-spara-tid/
END:VEVENT
END:VCALENDAR