BEGIN:VCALENDAR
VERSION:2.0
PRODID:-//eventon.com NONSGML v1.0//EN
CALSCALE:GREGORIAN
METHOD:PUBLISH
BEGIN:VEVENT
UID:69ebc47e4fdde
DTSTAMP:20260424T192902Z
DTSTART:20230503T130000Z
DTEND:20230503T133000Z
LOCATION:Sergel Hub SveavÃ¤gen 10a
SUMMARY:FÃ¶relÃ¤sning Stockholm - Skapa vÃ¤rde i fÃ¶retagets sociala kanaler
DESCRIPTION:I samband med Starta &amp; Driva FÃ¶retag-dagen den 3/5 vÃ¤lkom
 nar vi dig till den kostnadsfria fÃ¶relÃ¤sningen med Caroline Dahlqvist. PÃ
 ¥ ett lÃ¤ttsmÃ¤lt sÃ¤tt gÃ¥r vi igenom hur du fÃ¥r bÃ¤st effekt av fÃ¶retag
 ets nÃ¤rvaro pÃ¥ sociala medier. MarknadsfÃ¶ring i Sociala Medier Ã¤r en sj
 Ã¤lvklarhet fÃ¶r de flesta fÃ¶retagare. Idag rÃ¤cker[..]\nhttps://startaoch
 driva.se/events/forelasning-stockholm-skapa-varde-i-foretagets-sociala-kana
 ler/
URL:https://startaochdriva.se/events/forelasning-stockholm-skapa-varde-i-foretagets-sociala-kanaler/
END:VEVENT
END:VCALENDAR