BEGIN:VCALENDAR
VERSION:2.0
PRODID:-//eventon.com NONSGML v1.0//EN
CALSCALE:GREGORIAN
METHOD:PUBLISH
BEGIN:VEVENT
UID:69ebac472798e
DTSTAMP:20260424T174543Z
DTSTART:20230405T143000Z
DTEND:20230405T150000Z
LOCATION:Arena Sergel Malmskillnadsgatan 36
SUMMARY:FÃ¶relÃ¤sning Stockholm - Skriv bÃ¤ttre texter pÃ¥ halva tiden med ChatGPT
DESCRIPTION:I samband med StartUp Bar Stockholm 5/4 vÃ¤lkomnar vi dig till 
 en kostnadsfri fÃ¶relÃ¤sning medÂ AndreasÂ HolmbÃ¤ck. Vill du skriva bÃ¤ttr
 e texter och spara tid? DÃ¥ Ã¤r ChatGPT rÃ¤tt AI-modell fÃ¶r dig! Denna fÃ¶
 relÃ¤sning ger en introduktion till hur du kan anvÃ¤nda ChatGPT fÃ¶r att fÃ
 ¶rbÃ¤ttra din skrivfÃ¶rmÃ¥ga. Du kommer att lÃ¤ra[..]\nhttps://startaochdri
 va.se/events/skriv-battre-texter-pa-halva-tiden-med-chatgpt/
URL:https://startaochdriva.se/events/skriv-battre-texter-pa-halva-tiden-med-chatgpt/
END:VEVENT
END:VCALENDAR