BEGIN:VCALENDAR
VERSION:2.0
PRODID:-//eventon.com NONSGML v1.0//EN
CALSCALE:GREGORIAN
METHOD:PUBLISH
BEGIN:VEVENT
UID:69e58ac574614
DTSTAMP:20260420T020909Z
DTSTART:20230503T130000Z
DTEND:20230503T170000Z
LOCATION:Sergel Hub Sveavägen 10a
SUMMARY:Starta & Driva Företag-dagen
DESCRIPTION:Välkommen till våren roligaste händelse för företagare. De
 n 3/5 arrangerar vi Starta &amp; Driva Företag dagen både för dig som ä
 r entreprenör\,  driver företag eller funderar på att starta. Det blir e
 n eftermiddag i entreprenörskapens tecken\,  fylld med spännande aktivite
 ter\,  föreläsningar\,  möten och nya kontakter. Kom och utvidga ditt ko
 ntaktnät[..]\nhttps://startaochdriva.se/events/starta-driva-foretag-dagen/
URL:https://startaochdriva.se/events/starta-driva-foretag-dagen/
END:VEVENT
END:VCALENDAR