BEGIN:VCALENDAR
VERSION:2.0
PRODID:-//eventon.com NONSGML v1.0//EN
CALSCALE:GREGORIAN
METHOD:PUBLISH
BEGIN:VEVENT
UID:69ebdc0c2bcfe
DTSTAMP:20260424T210932Z
DTSTART:20221005T130000Z
DTEND:20221005T170000Z
LOCATION:Blique by Nobis Gävlegatan 18
SUMMARY:Minimässan Starta & Driva Företag och StartUp Bar Stockholm
DESCRIPTION:Välkommen till höstens roligaste händelse för företagare. 
 Den 5/10 arrangerar vi minimässan Starta &amp; Driva Företag både för d
 ig som är entreprenör\,  driver företag eller funderar på att starta. D
 et blir en eftermiddag i entreprenörskapens tecken\,  fylld med spännande
  aktiviteter\,  föreläsningar\,  möten och nya kontakter. Kom och utvidg
 a ditt kontaktnät[..]\nhttps://startaochdriva.se/events/minimassan-starta-
 driva-foretag-och-startup-bar-stockholm/
URL:https://startaochdriva.se/events/minimassan-starta-driva-foretag-och-startup-bar-stockholm/
END:VEVENT
END:VCALENDAR